BEGIN:VCALENDAR
VERSION:2.0
PRODID:-//1820 BrewWerks - ECPv6.15.20//NONSGML v1.0//EN
CALSCALE:GREGORIAN
METHOD:PUBLISH
X-WR-CALNAME:1820 BrewWerks
X-ORIGINAL-URL:https://1820brewwerks.com
X-WR-CALDESC:Events for 1820 BrewWerks
REFRESH-INTERVAL;VALUE=DURATION:PT1H
X-Robots-Tag:noindex
X-PUBLISHED-TTL:PT1H
BEGIN:VTIMEZONE
TZID:America/New_York
BEGIN:DAYLIGHT
TZOFFSETFROM:-0500
TZOFFSETTO:-0400
TZNAME:EDT
DTSTART:20240310T070000
END:DAYLIGHT
BEGIN:STANDARD
TZOFFSETFROM:-0400
TZOFFSETTO:-0500
TZNAME:EST
DTSTART:20241103T060000
END:STANDARD
BEGIN:DAYLIGHT
TZOFFSETFROM:-0500
TZOFFSETTO:-0400
TZNAME:EDT
DTSTART:20250309T070000
END:DAYLIGHT
BEGIN:STANDARD
TZOFFSETFROM:-0400
TZOFFSETTO:-0500
TZNAME:EST
DTSTART:20251102T060000
END:STANDARD
BEGIN:DAYLIGHT
TZOFFSETFROM:-0500
TZOFFSETTO:-0400
TZNAME:EDT
DTSTART:20260308T070000
END:DAYLIGHT
BEGIN:STANDARD
TZOFFSETFROM:-0400
TZOFFSETTO:-0500
TZNAME:EST
DTSTART:20261101T060000
END:STANDARD
END:VTIMEZONE
BEGIN:VEVENT
DTSTART;TZID=America/New_York:20250802T160000
DTEND;TZID=America/New_York:20250802T200000
DTSTAMP:20260424T035953
CREATED:20250707T181857Z
LAST-MODIFIED:20250707T181857Z
UID:1560-1754150400-1754164800@1820brewwerks.com
SUMMARY:Northwest Ohio Brew-B-Que 2025
DESCRIPTION:
URL:https://1820brewwerks.com/event/northwest-ohio-brew-b-que-2025/
LOCATION:OH
ATTACH;FMTTYPE=image/png:https://1820brewwerks.com/wp-content/uploads/2025/07/unnamed-3.png
END:VEVENT
BEGIN:VEVENT
DTSTART;TZID=America/New_York:20250805T183000
DTEND;TZID=America/New_York:20250805T203000
DTSTAMP:20260424T035953
CREATED:20250707T181926Z
LAST-MODIFIED:20250707T194651Z
UID:1562-1754418600-1754425800@1820brewwerks.com
SUMMARY:Friends in Motion
DESCRIPTION:
URL:https://1820brewwerks.com/event/friends-in-motion-11/
LOCATION:1820 BrewWerks\, 105 W. Main Street\, Kalida\, OH\, 45853\, United States
ATTACH;FMTTYPE=image/jpeg:https://1820brewwerks.com/wp-content/uploads/2025/07/FriendsInMotion.jpg
END:VEVENT
BEGIN:VEVENT
DTSTART;TZID=America/New_York:20250812T183000
DTEND;TZID=America/New_York:20250812T203000
DTSTAMP:20260424T035953
CREATED:20250707T181948Z
LAST-MODIFIED:20250707T194635Z
UID:1564-1755023400-1755030600@1820brewwerks.com
SUMMARY:Friends in Motion
DESCRIPTION:
URL:https://1820brewwerks.com/event/friends-in-motion-12/
LOCATION:1820 BrewWerks\, 105 W. Main Street\, Kalida\, OH\, 45853\, United States
ATTACH;FMTTYPE=image/jpeg:https://1820brewwerks.com/wp-content/uploads/2025/07/FriendsInMotion.jpg
END:VEVENT
BEGIN:VEVENT
DTSTART;VALUE=DATE:20250814
DTEND;VALUE=DATE:20250815
DTSTAMP:20260424T035953
CREATED:20250707T182116Z
LAST-MODIFIED:20250707T182116Z
UID:1570-1755129600-1755215999@1820brewwerks.com
SUMMARY:Thursday @ The Rex
DESCRIPTION:
URL:https://1820brewwerks.com/event/thursday-the-rex-5/
LOCATION:OH
ATTACH;FMTTYPE=image/png:https://1820brewwerks.com/wp-content/uploads/2025/07/unnamed-4.png
END:VEVENT
BEGIN:VEVENT
DTSTART;TZID=America/New_York:20250815T170000
DTEND;TZID=America/New_York:20250815T210000
DTSTAMP:20260424T035953
CREATED:20250707T182155Z
LAST-MODIFIED:20250707T182155Z
UID:1572-1755277200-1755291600@1820brewwerks.com
SUMMARY:Fort Fest
DESCRIPTION:
URL:https://1820brewwerks.com/event/fort-fest/
LOCATION:OH
ATTACH;FMTTYPE=image/jpeg:https://1820brewwerks.com/wp-content/uploads/2025/07/unnamed-5.jpg
END:VEVENT
BEGIN:VEVENT
DTSTART;TZID=America/New_York:20250819T183000
DTEND;TZID=America/New_York:20250819T203000
DTSTAMP:20260424T035953
CREATED:20250707T182033Z
LAST-MODIFIED:20250707T194621Z
UID:1566-1755628200-1755635400@1820brewwerks.com
SUMMARY:Friends in Motion
DESCRIPTION:
URL:https://1820brewwerks.com/event/friends-in-motion-13/
LOCATION:1820 BrewWerks\, 105 W. Main Street\, Kalida\, OH\, 45853\, United States
ATTACH;FMTTYPE=image/jpeg:https://1820brewwerks.com/wp-content/uploads/2025/07/FriendsInMotion.jpg
END:VEVENT
BEGIN:VEVENT
DTSTART;TZID=America/New_York:20250826T183000
DTEND;TZID=America/New_York:20250826T203000
DTSTAMP:20260424T035953
CREATED:20250707T182052Z
LAST-MODIFIED:20250707T194608Z
UID:1568-1756233000-1756240200@1820brewwerks.com
SUMMARY:Friends in Motion
DESCRIPTION:
URL:https://1820brewwerks.com/event/friends-in-motion-14/
LOCATION:1820 BrewWerks\, 105 W. Main Street\, Kalida\, OH\, 45853\, United States
ATTACH;FMTTYPE=image/jpeg:https://1820brewwerks.com/wp-content/uploads/2025/07/FriendsInMotion.jpg
END:VEVENT
BEGIN:VEVENT
DTSTART;VALUE=DATE:20250828
DTEND;VALUE=DATE:20250829
DTSTAMP:20260424T035953
CREATED:20250707T182219Z
LAST-MODIFIED:20250707T182219Z
UID:1574-1756339200-1756425599@1820brewwerks.com
SUMMARY:Thursday @ The Rex
DESCRIPTION:
URL:https://1820brewwerks.com/event/thursday-the-rex-6/
LOCATION:OH
ATTACH;FMTTYPE=image/png:https://1820brewwerks.com/wp-content/uploads/2025/07/unnamed-4.png
END:VEVENT
END:VCALENDAR