BEGIN:VCALENDAR
VERSION:2.0
PRODID:-//1820 BrewWerks - ECPv6.15.20//NONSGML v1.0//EN
CALSCALE:GREGORIAN
METHOD:PUBLISH
X-WR-CALNAME:1820 BrewWerks
X-ORIGINAL-URL:https://1820brewwerks.com
X-WR-CALDESC:Events for 1820 BrewWerks
REFRESH-INTERVAL;VALUE=DURATION:PT1H
X-Robots-Tag:noindex
X-PUBLISHED-TTL:PT1H
BEGIN:VTIMEZONE
TZID:America/New_York
BEGIN:DAYLIGHT
TZOFFSETFROM:-0500
TZOFFSETTO:-0400
TZNAME:EDT
DTSTART:20240310T070000
END:DAYLIGHT
BEGIN:STANDARD
TZOFFSETFROM:-0400
TZOFFSETTO:-0500
TZNAME:EST
DTSTART:20241103T060000
END:STANDARD
BEGIN:DAYLIGHT
TZOFFSETFROM:-0500
TZOFFSETTO:-0400
TZNAME:EDT
DTSTART:20250309T070000
END:DAYLIGHT
BEGIN:STANDARD
TZOFFSETFROM:-0400
TZOFFSETTO:-0500
TZNAME:EST
DTSTART:20251102T060000
END:STANDARD
BEGIN:DAYLIGHT
TZOFFSETFROM:-0500
TZOFFSETTO:-0400
TZNAME:EDT
DTSTART:20260308T070000
END:DAYLIGHT
BEGIN:STANDARD
TZOFFSETFROM:-0400
TZOFFSETTO:-0500
TZNAME:EST
DTSTART:20261101T060000
END:STANDARD
END:VTIMEZONE
BEGIN:VEVENT
DTSTART;TZID=America/New_York:20250722T183000
DTEND;TZID=America/New_York:20250722T203000
DTSTAMP:20260423T200739
CREATED:20250707T181734Z
LAST-MODIFIED:20250707T194724Z
UID:1554-1753209000-1753216200@1820brewwerks.com
SUMMARY:Friends in Motion
DESCRIPTION:
URL:https://1820brewwerks.com/event/friends-in-motion-9/
LOCATION:1820 BrewWerks\, 105 W. Main Street\, Kalida\, OH\, 45853\, United States
ATTACH;FMTTYPE=image/jpeg:https://1820brewwerks.com/wp-content/uploads/2025/07/FriendsInMotion.jpg
END:VEVENT
BEGIN:VEVENT
DTSTART;TZID=America/New_York:20250718T190000
DTEND;TZID=America/New_York:20250718T200000
DTSTAMP:20260423T200739
CREATED:20250707T181706Z
LAST-MODIFIED:20250707T181706Z
UID:1552-1752865200-1752868800@1820brewwerks.com
SUMMARY:Music Bingo
DESCRIPTION:
URL:https://1820brewwerks.com/event/music-bingo-2/
LOCATION:1820 BrewWerks\, 105 W. Main Street\, Kalida\, OH\, 45853\, United States
END:VEVENT
BEGIN:VEVENT
DTSTART;TZID=America/New_York:20250715T183000
DTEND;TZID=America/New_York:20250715T203000
DTSTAMP:20260423T200739
CREATED:20250707T181622Z
LAST-MODIFIED:20250707T194735Z
UID:1550-1752604200-1752611400@1820brewwerks.com
SUMMARY:Friends in Motion
DESCRIPTION:
URL:https://1820brewwerks.com/event/friends-in-motion-8/
LOCATION:1820 BrewWerks\, 105 W. Main Street\, Kalida\, OH\, 45853\, United States
ATTACH;FMTTYPE=image/jpeg:https://1820brewwerks.com/wp-content/uploads/2025/07/FriendsInMotion.jpg
END:VEVENT
BEGIN:VEVENT
DTSTART;VALUE=DATE:20250710
DTEND;VALUE=DATE:20250711
DTSTAMP:20260423T200739
CREATED:20250707T181552Z
LAST-MODIFIED:20250707T181552Z
UID:1548-1752105600-1752191999@1820brewwerks.com
SUMMARY:Thursday @ The Rex
DESCRIPTION:
URL:https://1820brewwerks.com/event/thursday-the-rex-3/
ATTACH;FMTTYPE=image/png:https://1820brewwerks.com/wp-content/uploads/2025/07/unnamed-4.png
END:VEVENT
BEGIN:VEVENT
DTSTART;TZID=America/New_York:20250708T183000
DTEND;TZID=America/New_York:20250708T203000
DTSTAMP:20260423T200739
CREATED:20250707T181511Z
LAST-MODIFIED:20250707T194750Z
UID:1542-1751999400-1752006600@1820brewwerks.com
SUMMARY:Friends in Motion
DESCRIPTION:
URL:https://1820brewwerks.com/event/friends-in-motion-7/
LOCATION:1820 BrewWerks\, 105 W. Main Street\, Kalida\, OH\, 45853\, United States
ATTACH;FMTTYPE=image/jpeg:https://1820brewwerks.com/wp-content/uploads/2025/07/FriendsInMotion.jpg
END:VEVENT
BEGIN:VEVENT
DTSTART;TZID=America/New_York:20250627T160000
DTEND;TZID=America/New_York:20250627T170000
DTSTAMP:20260423T200739
CREATED:20250602T200938Z
LAST-MODIFIED:20250602T200956Z
UID:1535-1751040000-1751043600@1820brewwerks.com
SUMMARY:Kalida Lions Club Poker Run pre-party
DESCRIPTION:
URL:https://1820brewwerks.com/event/kalida-lions-club-poker-run-pre-party/
END:VEVENT
BEGIN:VEVENT
DTSTART;TZID=America/New_York:20250624T183000
DTEND;TZID=America/New_York:20250624T203000
DTSTAMP:20260423T200739
CREATED:20250602T200831Z
LAST-MODIFIED:20250602T200831Z
UID:1531-1750789800-1750797000@1820brewwerks.com
SUMMARY:Friends In Motion
DESCRIPTION:
URL:https://1820brewwerks.com/event/friends-in-motion-6/
LOCATION:1820 BrewWerks\, 105 W. Main Street\, Kalida\, OH\, 45853\, United States
ATTACH;FMTTYPE=image/jpeg:https://1820brewwerks.com/wp-content/uploads/2025/05/1820-BW-May-2025-OS.jpg
END:VEVENT
BEGIN:VEVENT
DTSTART;TZID=America/New_York:20250619T000000
DTEND;TZID=America/New_York:20250619T000000
DTSTAMP:20260423T200739
CREATED:20250602T200803Z
LAST-MODIFIED:20250602T200803Z
UID:1529-1750291200-1750291200@1820brewwerks.com
SUMMARY:Thursday @ the Rex
DESCRIPTION:
URL:https://1820brewwerks.com/event/thursday-the-rex-2/
END:VEVENT
BEGIN:VEVENT
DTSTART;TZID=America/New_York:20250618T183000
DTEND;TZID=America/New_York:20250618T203000
DTSTAMP:20260423T200739
CREATED:20250602T200746Z
LAST-MODIFIED:20250602T200746Z
UID:1527-1750271400-1750278600@1820brewwerks.com
SUMMARY:Friends In Motion
DESCRIPTION:
URL:https://1820brewwerks.com/event/friends-in-motion-5/
LOCATION:1820 BrewWerks\, 105 W. Main Street\, Kalida\, OH\, 45853\, United States
ATTACH;FMTTYPE=image/jpeg:https://1820brewwerks.com/wp-content/uploads/2025/05/1820-BW-May-2025-OS.jpg
END:VEVENT
BEGIN:VEVENT
DTSTART;TZID=America/New_York:20250614T150000
DTEND;TZID=America/New_York:20250614T190000
DTSTAMP:20260423T200739
CREATED:20250602T200654Z
LAST-MODIFIED:20250602T200654Z
UID:1522-1749913200-1749927600@1820brewwerks.com
SUMMARY:Beer and bacon fest at Hungarian in Toledo
DESCRIPTION:
URL:https://1820brewwerks.com/event/beer-and-bacon-fest-at-hungarian-in-toledo/
ATTACH;FMTTYPE=image/png:https://1820brewwerks.com/wp-content/uploads/2025/06/image11.png
END:VEVENT
BEGIN:VEVENT
DTSTART;TZID=America/New_York:20250613T190000
DTEND;TZID=America/New_York:20250613T200000
DTSTAMP:20260423T200739
CREATED:20250602T200610Z
LAST-MODIFIED:20250602T200610Z
UID:1520-1749841200-1749844800@1820brewwerks.com
SUMMARY:Music Bingo
DESCRIPTION:
URL:https://1820brewwerks.com/event/music-bingo/
LOCATION:1820 BrewWerks\, 105 W. Main Street\, Kalida\, OH\, 45853\, United States
END:VEVENT
BEGIN:VEVENT
DTSTART;TZID=America/New_York:20250610T183000
DTEND;TZID=America/New_York:20250610T203000
DTSTAMP:20260423T200739
CREATED:20250602T200524Z
LAST-MODIFIED:20250602T200524Z
UID:1518-1749580200-1749587400@1820brewwerks.com
SUMMARY:Friends In Motion
DESCRIPTION:
URL:https://1820brewwerks.com/event/friends-in-motion-4/
LOCATION:1820 BrewWerks\, 105 W. Main Street\, Kalida\, OH\, 45853\, United States
ATTACH;FMTTYPE=image/jpeg:https://1820brewwerks.com/wp-content/uploads/2025/05/1820-BW-May-2025-OS.jpg
END:VEVENT
BEGIN:VEVENT
DTSTART;TZID=America/New_York:20250606T000000
DTEND;TZID=America/New_York:20250606T000000
DTSTAMP:20260423T200739
CREATED:20250602T200457Z
LAST-MODIFIED:20250602T200457Z
UID:1516-1749168000-1749168000@1820brewwerks.com
SUMMARY:Thursday @ the Rex
DESCRIPTION:
URL:https://1820brewwerks.com/event/thursday-the-rex/
END:VEVENT
BEGIN:VEVENT
DTSTART;TZID=America/New_York:20250604T160000
DTEND;TZID=America/New_York:20250604T200000
DTSTAMP:20260423T200739
CREATED:20250602T200434Z
LAST-MODIFIED:20250602T200434Z
UID:1514-1749052800-1749067200@1820brewwerks.com
SUMMARY:Taste of Kalida
DESCRIPTION:
URL:https://1820brewwerks.com/event/taste-of-kalida/
END:VEVENT
BEGIN:VEVENT
DTSTART;TZID=America/New_York:20250603T183000
DTEND;TZID=America/New_York:20250603T203000
DTSTAMP:20260423T200739
CREATED:20250602T200353Z
LAST-MODIFIED:20250602T200353Z
UID:1512-1748975400-1748982600@1820brewwerks.com
SUMMARY:Friends In Motion
DESCRIPTION:
URL:https://1820brewwerks.com/event/friends-in-motion-3/
LOCATION:1820 BrewWerks\, 105 W. Main Street\, Kalida\, OH\, 45853\, United States
ATTACH;FMTTYPE=image/jpeg:https://1820brewwerks.com/wp-content/uploads/2025/05/1820-BW-May-2025-OS.jpg
END:VEVENT
BEGIN:VEVENT
DTSTART;TZID=America/New_York:20250527T183000
DTEND;TZID=America/New_York:20250527T183000
DTSTAMP:20260423T200739
CREATED:20250514T140522Z
LAST-MODIFIED:20250519T135708Z
UID:1468-1748370600-1748370600@1820brewwerks.com
SUMMARY:Friends in Motion
DESCRIPTION:
URL:https://1820brewwerks.com/event/friends-in-motion-2/
LOCATION:1820 BrewWerks\, 105 W. Main Street\, Kalida\, OH\, 45853\, United States
ATTACH;FMTTYPE=image/jpeg:https://1820brewwerks.com/wp-content/uploads/2025/05/1820-BW-May-2025-OS.jpg
END:VEVENT
BEGIN:VEVENT
DTSTART;TZID=America/New_York:20250521T190000
DTEND;TZID=America/New_York:20250521T190000
DTSTAMP:20260423T200739
CREATED:20250513T183515Z
LAST-MODIFIED:20250514T141016Z
UID:1411-1747854000-1747854000@1820brewwerks.com
SUMMARY:Trivia Night
DESCRIPTION:Join us for a fun-filled evening of brain-teasing questions\, delicious brews\, and mouthwatering munchies. Can you and your team rise to the challenge and take home the 1st place prize? There’s only one way to find out! 🏆🧠 \nRound 1 kicks off at 7:00 pm sharp\, so grab your friends\, form your dream team\, and get ready for some friendly competition. Prizes await the top three teams\, so put your thinking caps on\, and let’s make this a night to remember! 💡🍻 \nHosted by the one and only DJ Terrance\, this is an event you won’t want to miss.
URL:https://1820brewwerks.com/event/trivia-night/
LOCATION:1820 BrewWerks\, 105 W. Main Street\, Kalida\, OH\, 45853\, United States
ATTACH;FMTTYPE=image/jpeg:https://1820brewwerks.com/wp-content/uploads/2025/05/Trivia-Night-1.jpg
END:VEVENT
BEGIN:VEVENT
DTSTART;TZID=America/New_York:20250520T183000
DTEND;TZID=America/New_York:20250520T183000
DTSTAMP:20260423T200739
CREATED:20250512T140427Z
LAST-MODIFIED:20250519T135720Z
UID:1466-1747765800-1747765800@1820brewwerks.com
SUMMARY:Friends in Motion
DESCRIPTION:
URL:https://1820brewwerks.com/event/friends-in-motion/
LOCATION:1820 BrewWerks\, 105 W. Main Street\, Kalida\, OH\, 45853\, United States
ATTACH;FMTTYPE=image/jpeg:https://1820brewwerks.com/wp-content/uploads/2025/05/1820-BW-May-2025-OS.jpg
END:VEVENT
BEGIN:VEVENT
DTSTART;TZID=America/New_York:20250517T120000
DTEND;TZID=America/New_York:20250517T120000
DTSTAMP:20260423T200739
CREATED:20250512T140058Z
LAST-MODIFIED:20250514T141422Z
UID:1464-1747483200-1747483200@1820brewwerks.com
SUMMARY:Father John Beer Tasting
DESCRIPTION:
URL:https://1820brewwerks.com/event/father-john-beer-tasting/
LOCATION:1820 BrewWerks\, 105 W. Main Street\, Kalida\, OH\, 45853\, United States
END:VEVENT
BEGIN:VEVENT
DTSTART;TZID=America/New_York:20250516T180000
DTEND;TZID=America/New_York:20250516T180000
DTSTAMP:20260423T200739
CREATED:20250512T134453Z
LAST-MODIFIED:20250514T141405Z
UID:1436-1747418400-1747418400@1820brewwerks.com
SUMMARY:Chug Run
DESCRIPTION:Join us for the ultimate blend of fitness and fun at the 1 mile chug run or relay! This unique event combines the thrill of a short-distance race with enjoying your favorite brews\, donuts or delicious N/A beverages! Whether you’re a seasoned runner or just looking of a good time\, this event is perfect for everyone! Scan the QR Code for more information and sign ups! \nMust be 21+ to participate in the beer mile. Gluten Free options available as well for all ages. \nRegistration \nHosted by 1820 BrewWerks and Moose Landing Country Club
URL:https://1820brewwerks.com/event/chug-run/
LOCATION:Kalida Four Seasons Park Pavilion\, Road M\, Cloverdale\, OH\, 45827\, United States
ATTACH;FMTTYPE=image/jpeg:https://1820brewwerks.com/wp-content/uploads/2025/05/ChugRun.jpg
END:VEVENT
END:VCALENDAR