BEGIN:VCALENDAR
VERSION:2.0
PRODID:-//1820 BrewWerks - ECPv6.15.20//NONSGML v1.0//EN
CALSCALE:GREGORIAN
METHOD:PUBLISH
X-WR-CALNAME:1820 BrewWerks
X-ORIGINAL-URL:https://1820brewwerks.com
X-WR-CALDESC:Events for 1820 BrewWerks
REFRESH-INTERVAL;VALUE=DURATION:PT1H
X-Robots-Tag:noindex
X-PUBLISHED-TTL:PT1H
BEGIN:VTIMEZONE
TZID:America/New_York
BEGIN:DAYLIGHT
TZOFFSETFROM:-0500
TZOFFSETTO:-0400
TZNAME:EDT
DTSTART:20240310T070000
END:DAYLIGHT
BEGIN:STANDARD
TZOFFSETFROM:-0400
TZOFFSETTO:-0500
TZNAME:EST
DTSTART:20241103T060000
END:STANDARD
BEGIN:DAYLIGHT
TZOFFSETFROM:-0500
TZOFFSETTO:-0400
TZNAME:EDT
DTSTART:20250309T070000
END:DAYLIGHT
BEGIN:STANDARD
TZOFFSETFROM:-0400
TZOFFSETTO:-0500
TZNAME:EST
DTSTART:20251102T060000
END:STANDARD
BEGIN:DAYLIGHT
TZOFFSETFROM:-0500
TZOFFSETTO:-0400
TZNAME:EDT
DTSTART:20260308T070000
END:DAYLIGHT
BEGIN:STANDARD
TZOFFSETFROM:-0400
TZOFFSETTO:-0500
TZNAME:EST
DTSTART:20261101T060000
END:STANDARD
BEGIN:DAYLIGHT
TZOFFSETFROM:-0500
TZOFFSETTO:-0400
TZNAME:EDT
DTSTART:20270314T070000
END:DAYLIGHT
BEGIN:STANDARD
TZOFFSETFROM:-0400
TZOFFSETTO:-0500
TZNAME:EST
DTSTART:20271107T060000
END:STANDARD
END:VTIMEZONE
BEGIN:VEVENT
DTSTART;TZID=America/New_York:20260115T190000
DTEND;TZID=America/New_York:20260115T190000
DTSTAMP:20260423T194758
CREATED:20260114T133948Z
LAST-MODIFIED:20260114T134012Z
UID:1681-1768503600-1768503600@1820brewwerks.com
SUMMARY:Trivia Night
DESCRIPTION:
URL:https://1820brewwerks.com/event/trivia-night-4/
LOCATION:1820 BrewWerks\, 105 W. Main Street\, Kalida\, OH\, 45853\, United States
ATTACH;FMTTYPE=image/jpeg:https://1820brewwerks.com/wp-content/uploads/2026/01/image2-1.jpg
END:VEVENT
BEGIN:VEVENT
DTSTART;TZID=America/New_York:20251218T190000
DTEND;TZID=America/New_York:20251218T210000
DTSTAMP:20260423T194758
CREATED:20251203T235938Z
LAST-MODIFIED:20251204T000353Z
UID:1674-1766084400-1766091600@1820brewwerks.com
SUMMARY:Trivia Night
DESCRIPTION:
URL:https://1820brewwerks.com/event/trivia-3/
LOCATION:OH
ATTACH;FMTTYPE=image/jpeg:https://1820brewwerks.com/wp-content/uploads/2025/12/trivia-night-12-18.jpg
END:VEVENT
BEGIN:VEVENT
DTSTART;TZID=America/New_York:20251214T120000
DTEND;TZID=America/New_York:20251214T150000
DTSTAMP:20260423T194758
CREATED:20251203T235905Z
LAST-MODIFIED:20251204T000313Z
UID:1672-1765713600-1765724400@1820brewwerks.com
SUMMARY:Christmas in Kalida
DESCRIPTION:
URL:https://1820brewwerks.com/event/christmas-in-kalida/
LOCATION:OH
ATTACH;FMTTYPE=image/jpeg:https://1820brewwerks.com/wp-content/uploads/2025/12/christmas-in-kalida.jpg
END:VEVENT
BEGIN:VEVENT
DTSTART;TZID=America/New_York:20251212T190000
DTEND;TZID=America/New_York:20251212T210000
DTSTAMP:20260423T194758
CREATED:20251203T235835Z
LAST-MODIFIED:20251204T000252Z
UID:1670-1765566000-1765573200@1820brewwerks.com
SUMMARY:Music Bingo
DESCRIPTION:
URL:https://1820brewwerks.com/event/music-bingo-7/
LOCATION:OH
ATTACH;FMTTYPE=image/jpeg:https://1820brewwerks.com/wp-content/uploads/2025/12/music-bingo.jpg
END:VEVENT
BEGIN:VEVENT
DTSTART;VALUE=DATE:20251127
DTEND;VALUE=DATE:20251128
DTSTAMP:20260423T194758
CREATED:20251021T162727Z
LAST-MODIFIED:20251021T162727Z
UID:1658-1764201600-1764287999@1820brewwerks.com
SUMMARY:Thanksgiving
DESCRIPTION:
URL:https://1820brewwerks.com/event/thanksgiving/
LOCATION:OH
END:VEVENT
BEGIN:VEVENT
DTSTART;TZID=America/New_York:20251104T183000
DTEND;TZID=America/New_York:20251104T203000
DTSTAMP:20260423T194758
CREATED:20251021T162512Z
LAST-MODIFIED:20251021T162512Z
UID:1647-1762281000-1762288200@1820brewwerks.com
SUMMARY:Friends in Motion
DESCRIPTION:
URL:https://1820brewwerks.com/event/friends-in-motion-24/
LOCATION:1820 BrewWerks\, 105 W. Main Street\, Kalida\, OH\, 45853\, United States
ATTACH;FMTTYPE=image/jpeg:https://1820brewwerks.com/wp-content/uploads/2025/07/1820-BW-May-2025-OS.jpg
END:VEVENT
BEGIN:VEVENT
DTSTART;TZID=America/New_York:20251101T193000
DTEND;TZID=America/New_York:20251101T223000
DTSTAMP:20260423T194758
CREATED:20251006T193858Z
LAST-MODIFIED:20251006T194107Z
UID:1642-1762025400-1762036200@1820brewwerks.com
SUMMARY:We Might Offend You Comedy Tour
DESCRIPTION:
URL:https://1820brewwerks.com/event/we-might-offend-you-comedy-tour/
LOCATION:1820 BrewWerks\, 105 W. Main Street\, Kalida\, OH\, 45853\, United States
ATTACH;FMTTYPE=image/webp:https://1820brewwerks.com/wp-content/uploads/2025/10/We-Might-Offend-You-1820-BrewWerks-11_1_25.webp
END:VEVENT
BEGIN:VEVENT
DTSTART;TZID=America/New_York:20251031T190000
DTEND;TZID=America/New_York:20251031T210000
DTSTAMP:20260423T194758
CREATED:20250926T203158Z
LAST-MODIFIED:20250926T203158Z
UID:1634-1761937200-1761944400@1820brewwerks.com
SUMMARY:Music Bingo
DESCRIPTION:
URL:https://1820brewwerks.com/event/music-bingo-5/
LOCATION:1820 BrewWerks\, 105 W. Main Street\, Kalida\, OH\, 45853\, United States
ATTACH;FMTTYPE=image/jpeg:https://1820brewwerks.com/wp-content/uploads/2025/09/music-bingo2.jpg
END:VEVENT
BEGIN:VEVENT
DTSTART;TZID=America/New_York:20251028T183000
DTEND;TZID=America/New_York:20251028T203000
DTSTAMP:20260423T194758
CREATED:20250926T203104Z
LAST-MODIFIED:20250926T203104Z
UID:1632-1761676200-1761683400@1820brewwerks.com
SUMMARY:Friends in Motion
DESCRIPTION:
URL:https://1820brewwerks.com/event/friends-in-motion-23/
LOCATION:1820 BrewWerks\, 105 W. Main Street\, Kalida\, OH\, 45853\, United States
ATTACH;FMTTYPE=image/jpeg:https://1820brewwerks.com/wp-content/uploads/2025/07/FriendsInMotion.jpg
END:VEVENT
BEGIN:VEVENT
DTSTART;TZID=America/New_York:20251025T120000
DTEND;TZID=America/New_York:20251025T170000
DTSTAMP:20260423T194758
CREATED:20250926T203025Z
LAST-MODIFIED:20250926T203025Z
UID:1629-1761393600-1761411600@1820brewwerks.com
SUMMARY:Camp Brew Fest 2025
DESCRIPTION:
URL:https://1820brewwerks.com/event/camp-brew-fest-2025/
LOCATION:OH
ATTACH;FMTTYPE=image/png:https://1820brewwerks.com/wp-content/uploads/2025/09/camp-brewfest25.png
END:VEVENT
BEGIN:VEVENT
DTSTART;TZID=America/New_York:20251021T183000
DTEND;TZID=America/New_York:20251021T203000
DTSTAMP:20260423T194758
CREATED:20250926T202930Z
LAST-MODIFIED:20250926T202930Z
UID:1627-1761071400-1761078600@1820brewwerks.com
SUMMARY:Friends in Motion
DESCRIPTION:
URL:https://1820brewwerks.com/event/friends-in-motion-22/
LOCATION:1820 BrewWerks\, 105 W. Main Street\, Kalida\, OH\, 45853\, United States
ATTACH;FMTTYPE=image/jpeg:https://1820brewwerks.com/wp-content/uploads/2025/07/FriendsInMotion.jpg
END:VEVENT
BEGIN:VEVENT
DTSTART;TZID=America/New_York:20251016T190000
DTEND;TZID=America/New_York:20251016T210000
DTSTAMP:20260423T194758
CREATED:20250926T202850Z
LAST-MODIFIED:20250926T202850Z
UID:1624-1760641200-1760648400@1820brewwerks.com
SUMMARY:Trivia Night
DESCRIPTION:
URL:https://1820brewwerks.com/event/trivia-night-2/
LOCATION:1820 BrewWerks\, 105 W. Main Street\, Kalida\, OH\, 45853\, United States
ATTACH;FMTTYPE=image/jpeg:https://1820brewwerks.com/wp-content/uploads/2025/09/trivia-night.jpg
END:VEVENT
BEGIN:VEVENT
DTSTART;TZID=America/New_York:20251014T183000
DTEND;TZID=America/New_York:20251014T203000
DTSTAMP:20260423T194758
CREATED:20250926T202800Z
LAST-MODIFIED:20250926T202800Z
UID:1622-1760466600-1760473800@1820brewwerks.com
SUMMARY:Friends in Motion
DESCRIPTION:
URL:https://1820brewwerks.com/event/friends-in-motion-21/
LOCATION:1820 BrewWerks\, 105 W. Main Street\, Kalida\, OH\, 45853\, United States
ATTACH;FMTTYPE=image/jpeg:https://1820brewwerks.com/wp-content/uploads/2025/07/FriendsInMotion.jpg
END:VEVENT
BEGIN:VEVENT
DTSTART;TZID=America/New_York:20251007T183000
DTEND;TZID=America/New_York:20251007T203000
DTSTAMP:20260423T194758
CREATED:20250926T202714Z
LAST-MODIFIED:20250926T202714Z
UID:1620-1759861800-1759869000@1820brewwerks.com
SUMMARY:Friends in Motion
DESCRIPTION:
URL:https://1820brewwerks.com/event/friends-in-motion-20/
LOCATION:1820 BrewWerks\, 105 W. Main Street\, Kalida\, OH\, 45853\, United States
ATTACH;FMTTYPE=image/jpeg:https://1820brewwerks.com/wp-content/uploads/2025/07/FriendsInMotion.jpg
END:VEVENT
BEGIN:VEVENT
DTSTART;TZID=America/New_York:20251003T190000
DTEND;TZID=America/New_York:20251003T210000
DTSTAMP:20260423T194758
CREATED:20250926T202552Z
LAST-MODIFIED:20250926T202552Z
UID:1617-1759518000-1759525200@1820brewwerks.com
SUMMARY:Music Bingo
DESCRIPTION:
URL:https://1820brewwerks.com/event/music-bingo-4/
LOCATION:1820 BrewWerks\, 105 W. Main Street\, Kalida\, OH\, 45853\, United States
ATTACH;FMTTYPE=image/jpeg:https://1820brewwerks.com/wp-content/uploads/2025/09/music-bingo.jpg
END:VEVENT
BEGIN:VEVENT
DTSTART;TZID=America/New_York:20250930T183000
DTEND;TZID=America/New_York:20250930T203000
DTSTAMP:20260423T194758
CREATED:20250902T160600Z
LAST-MODIFIED:20250902T160600Z
UID:1592-1759257000-1759264200@1820brewwerks.com
SUMMARY:Friends in Motion
DESCRIPTION:
URL:https://1820brewwerks.com/event/friends-in-motion-19/
LOCATION:1820 BrewWerks\, 105 W. Main Street\, Kalida\, OH\, 45853\, United States
ATTACH;FMTTYPE=image/jpeg:https://1820brewwerks.com/wp-content/uploads/2025/07/FriendsInMotion.jpg
END:VEVENT
BEGIN:VEVENT
DTSTART;VALUE=DATE:20250927
DTEND;VALUE=DATE:20250928
DTSTAMP:20260423T194758
CREATED:20250902T160806Z
LAST-MODIFIED:20250902T165345Z
UID:1602-1758931200-1759017599@1820brewwerks.com
SUMMARY:Findlay Octoberfest
DESCRIPTION:
URL:https://1820brewwerks.com/event/findlay-octoberfest/
LOCATION:OH
ATTACH;FMTTYPE=image/jpeg:https://1820brewwerks.com/wp-content/uploads/2025/09/image14.jpg
END:VEVENT
BEGIN:VEVENT
DTSTART;TZID=America/New_York:20250925T190000
DTEND;TZID=America/New_York:20250925T203000
DTSTAMP:20260423T194758
CREATED:20250902T160750Z
LAST-MODIFIED:20250902T160750Z
UID:1600-1758826800-1758832200@1820brewwerks.com
SUMMARY:Trivia
DESCRIPTION:
URL:https://1820brewwerks.com/event/trivia-2/
LOCATION:1820 BrewWerks\, 105 W. Main Street\, Kalida\, OH\, 45853\, United States
ATTACH;FMTTYPE=image/jpeg:https://1820brewwerks.com/wp-content/uploads/2025/05/Trivia-Night-1.jpg
END:VEVENT
BEGIN:VEVENT
DTSTART;TZID=America/New_York:20250923T183000
DTEND;TZID=America/New_York:20250923T203000
DTSTAMP:20260423T194758
CREATED:20250902T160538Z
LAST-MODIFIED:20250902T160538Z
UID:1590-1758652200-1758659400@1820brewwerks.com
SUMMARY:Friends in Motion
DESCRIPTION:
URL:https://1820brewwerks.com/event/friends-in-motion-18/
LOCATION:1820 BrewWerks\, 105 W. Main Street\, Kalida\, OH\, 45853\, United States
ATTACH;FMTTYPE=image/jpeg:https://1820brewwerks.com/wp-content/uploads/2025/07/FriendsInMotion.jpg
END:VEVENT
BEGIN:VEVENT
DTSTART;VALUE=DATE:20250920
DTEND;VALUE=DATE:20250921
DTSTAMP:20260423T194758
CREATED:20250902T160658Z
LAST-MODIFIED:20250902T165435Z
UID:1596-1758326400-1758412799@1820brewwerks.com
SUMMARY:Ottawa Octoberfest
DESCRIPTION:
URL:https://1820brewwerks.com/event/ottawa-octoberfest/
LOCATION:OH
ATTACH;FMTTYPE=image/jpeg:https://1820brewwerks.com/wp-content/uploads/2025/09/image25.jpg
END:VEVENT
BEGIN:VEVENT
DTSTART;TZID=America/New_York:20250919T190000
DTEND;TZID=America/New_York:20250919T200000
DTSTAMP:20260423T194758
CREATED:20250902T160642Z
LAST-MODIFIED:20250902T160642Z
UID:1594-1758308400-1758312000@1820brewwerks.com
SUMMARY:Music Bingo
DESCRIPTION:
URL:https://1820brewwerks.com/event/music-bingo-3/
LOCATION:1820 BrewWerks\, 105 W. Main Street\, Kalida\, OH\, 45853\, United States
END:VEVENT
BEGIN:VEVENT
DTSTART;TZID=America/New_York:20250916T183000
DTEND;TZID=America/New_York:20250916T203000
DTSTAMP:20260423T194758
CREATED:20250902T160456Z
LAST-MODIFIED:20250902T160456Z
UID:1588-1758047400-1758054600@1820brewwerks.com
SUMMARY:Friends in Motion
DESCRIPTION:
URL:https://1820brewwerks.com/event/friends-in-motion-17/
LOCATION:1820 BrewWerks\, 105 W. Main Street\, Kalida\, OH\, 45853\, United States
ATTACH;FMTTYPE=image/jpeg:https://1820brewwerks.com/wp-content/uploads/2025/07/FriendsInMotion.jpg
END:VEVENT
BEGIN:VEVENT
DTSTART;VALUE=DATE:20250912
DTEND;VALUE=DATE:20250915
DTSTAMP:20260423T194758
CREATED:20250902T160422Z
LAST-MODIFIED:20250902T165847Z
UID:1586-1757635200-1757894399@1820brewwerks.com
SUMMARY:Canal Days
DESCRIPTION:
URL:https://1820brewwerks.com/event/canal-days/
LOCATION:OH
ATTACH;FMTTYPE=image/jpeg:https://1820brewwerks.com/wp-content/uploads/2025/09/image16.jpg
END:VEVENT
BEGIN:VEVENT
DTSTART;TZID=America/New_York:20250909T183000
DTEND;TZID=America/New_York:20250909T203000
DTSTAMP:20260423T194758
CREATED:20250902T160255Z
LAST-MODIFIED:20250902T160357Z
UID:1583-1757442600-1757449800@1820brewwerks.com
SUMMARY:Friends in Motion
DESCRIPTION:
URL:https://1820brewwerks.com/event/friends-in-motion-16/
LOCATION:1820 BrewWerks\, 105 W. Main Street\, Kalida\, OH\, 45853\, United States
ATTACH;FMTTYPE=image/jpeg:https://1820brewwerks.com/wp-content/uploads/2025/07/FriendsInMotion.jpg
END:VEVENT
BEGIN:VEVENT
DTSTART;VALUE=DATE:20250904
DTEND;VALUE=DATE:20250905
DTSTAMP:20260423T194758
CREATED:20250902T160219Z
LAST-MODIFIED:20250902T165906Z
UID:1581-1756944000-1757030399@1820brewwerks.com
SUMMARY:Pioneer Days 
DESCRIPTION:
URL:https://1820brewwerks.com/event/pioneer-days/
LOCATION:OH
ATTACH;FMTTYPE=image/jpeg:https://1820brewwerks.com/wp-content/uploads/2025/09/image5.jpg
END:VEVENT
BEGIN:VEVENT
DTSTART;TZID=America/New_York:20250902T183000
DTEND;TZID=America/New_York:20250902T203000
DTSTAMP:20260423T194758
CREATED:20250902T160105Z
LAST-MODIFIED:20250902T160148Z
UID:1579-1756837800-1756845000@1820brewwerks.com
SUMMARY:Friends in Motion
DESCRIPTION:
URL:https://1820brewwerks.com/event/friends-in-motion-15/
LOCATION:1820 BrewWerks\, 105 W. Main Street\, Kalida\, OH\, 45853\, United States
ATTACH;FMTTYPE=image/jpeg:https://1820brewwerks.com/wp-content/uploads/2025/07/FriendsInMotion.jpg
END:VEVENT
BEGIN:VEVENT
DTSTART;VALUE=DATE:20250828
DTEND;VALUE=DATE:20250829
DTSTAMP:20260423T194758
CREATED:20250707T182219Z
LAST-MODIFIED:20250707T182219Z
UID:1574-1756339200-1756425599@1820brewwerks.com
SUMMARY:Thursday @ The Rex
DESCRIPTION:
URL:https://1820brewwerks.com/event/thursday-the-rex-6/
LOCATION:OH
ATTACH;FMTTYPE=image/png:https://1820brewwerks.com/wp-content/uploads/2025/07/unnamed-4.png
END:VEVENT
BEGIN:VEVENT
DTSTART;TZID=America/New_York:20250826T183000
DTEND;TZID=America/New_York:20250826T203000
DTSTAMP:20260423T194758
CREATED:20250707T182052Z
LAST-MODIFIED:20250707T194608Z
UID:1568-1756233000-1756240200@1820brewwerks.com
SUMMARY:Friends in Motion
DESCRIPTION:
URL:https://1820brewwerks.com/event/friends-in-motion-14/
LOCATION:1820 BrewWerks\, 105 W. Main Street\, Kalida\, OH\, 45853\, United States
ATTACH;FMTTYPE=image/jpeg:https://1820brewwerks.com/wp-content/uploads/2025/07/FriendsInMotion.jpg
END:VEVENT
BEGIN:VEVENT
DTSTART;TZID=America/New_York:20250819T183000
DTEND;TZID=America/New_York:20250819T203000
DTSTAMP:20260423T194758
CREATED:20250707T182033Z
LAST-MODIFIED:20250707T194621Z
UID:1566-1755628200-1755635400@1820brewwerks.com
SUMMARY:Friends in Motion
DESCRIPTION:
URL:https://1820brewwerks.com/event/friends-in-motion-13/
LOCATION:1820 BrewWerks\, 105 W. Main Street\, Kalida\, OH\, 45853\, United States
ATTACH;FMTTYPE=image/jpeg:https://1820brewwerks.com/wp-content/uploads/2025/07/FriendsInMotion.jpg
END:VEVENT
BEGIN:VEVENT
DTSTART;TZID=America/New_York:20250815T170000
DTEND;TZID=America/New_York:20250815T210000
DTSTAMP:20260423T194758
CREATED:20250707T182155Z
LAST-MODIFIED:20250707T182155Z
UID:1572-1755277200-1755291600@1820brewwerks.com
SUMMARY:Fort Fest
DESCRIPTION:
URL:https://1820brewwerks.com/event/fort-fest/
LOCATION:OH
ATTACH;FMTTYPE=image/jpeg:https://1820brewwerks.com/wp-content/uploads/2025/07/unnamed-5.jpg
END:VEVENT
END:VCALENDAR