BEGIN:VCALENDAR
VERSION:2.0
PRODID:-//1820 BrewWerks - ECPv6.15.20//NONSGML v1.0//EN
CALSCALE:GREGORIAN
METHOD:PUBLISH
X-ORIGINAL-URL:https://1820brewwerks.com
X-WR-CALDESC:Events for 1820 BrewWerks
REFRESH-INTERVAL;VALUE=DURATION:PT1H
X-Robots-Tag:noindex
X-PUBLISHED-TTL:PT1H
BEGIN:VTIMEZONE
TZID:America/New_York
BEGIN:DAYLIGHT
TZOFFSETFROM:-0500
TZOFFSETTO:-0400
TZNAME:EDT
DTSTART:20250309T070000
END:DAYLIGHT
BEGIN:STANDARD
TZOFFSETFROM:-0400
TZOFFSETTO:-0500
TZNAME:EST
DTSTART:20251102T060000
END:STANDARD
BEGIN:DAYLIGHT
TZOFFSETFROM:-0500
TZOFFSETTO:-0400
TZNAME:EDT
DTSTART:20260308T070000
END:DAYLIGHT
BEGIN:STANDARD
TZOFFSETFROM:-0400
TZOFFSETTO:-0500
TZNAME:EST
DTSTART:20261101T060000
END:STANDARD
BEGIN:DAYLIGHT
TZOFFSETFROM:-0500
TZOFFSETTO:-0400
TZNAME:EDT
DTSTART:20270314T070000
END:DAYLIGHT
BEGIN:STANDARD
TZOFFSETFROM:-0400
TZOFFSETTO:-0500
TZNAME:EST
DTSTART:20271107T060000
END:STANDARD
END:VTIMEZONE
BEGIN:VEVENT
DTSTART;TZID=America/New_York:20260306T190000
DTEND;TZID=America/New_York:20260306T190000
DTSTAMP:20260423T201104
CREATED:20260304T142224Z
LAST-MODIFIED:20260304T142342Z
UID:1722-1772823600-1772823600@1820brewwerks.com
SUMMARY:Music Bingo
DESCRIPTION:
URL:https://1820brewwerks.com/event/music-bingo-10/
LOCATION:1820 BrewWerks\, 105 W. Main Street\, Kalida\, OH\, 45853\, United States
ATTACH;FMTTYPE=image/jpeg:https://1820brewwerks.com/wp-content/uploads/2026/03/unnamed-6.jpg
END:VEVENT
BEGIN:VEVENT
DTSTART;TZID=America/New_York:20260319T190000
DTEND;TZID=America/New_York:20260319T190000
DTSTAMP:20260423T201104
CREATED:20260304T142114Z
LAST-MODIFIED:20260304T142331Z
UID:1717-1773946800-1773946800@1820brewwerks.com
SUMMARY:Trivia Night
DESCRIPTION:
URL:https://1820brewwerks.com/event/trivia-night-6/
LOCATION:1820 BrewWerks\, 105 W. Main Street\, Kalida\, OH\, 45853\, United States
ATTACH;FMTTYPE=image/jpeg:https://1820brewwerks.com/wp-content/uploads/2026/03/image14-1.jpg
END:VEVENT
BEGIN:VEVENT
DTSTART;TZID=America/New_York:20260328T180000
DTEND;TZID=America/New_York:20260328T220000
DTSTAMP:20260423T201104
CREATED:20260304T142314Z
LAST-MODIFIED:20260304T142321Z
UID:1725-1774720800-1774735200@1820brewwerks.com
SUMMARY:Speakeasy Night
DESCRIPTION:
URL:https://1820brewwerks.com/event/speakeasy-night/
LOCATION:1820 BrewWerks\, 105 W. Main Street\, Kalida\, OH\, 45853\, United States
ATTACH;FMTTYPE=image/png:https://1820brewwerks.com/wp-content/uploads/2026/03/image3.png
END:VEVENT
BEGIN:VEVENT
DTSTART;TZID=America/New_York:20260403T190000
DTEND;TZID=America/New_York:20260403T190000
DTSTAMP:20260423T201104
CREATED:20260330T104143Z
LAST-MODIFIED:20260330T115318Z
UID:1756-1775242800-1775242800@1820brewwerks.com
SUMMARY:Music Bingo
DESCRIPTION:
URL:https://1820brewwerks.com/event/music-bingo-11/
LOCATION:1820 BrewWerks\, 105 W. Main Street\, Kalida\, OH\, 45853\, United States
ATTACH;FMTTYPE=image/jpeg:https://1820brewwerks.com/wp-content/uploads/2026/03/image21.jpg
END:VEVENT
BEGIN:VEVENT
DTSTART;TZID=America/New_York:20260407T190000
DTEND;TZID=America/New_York:20260407T190000
DTSTAMP:20260423T201104
CREATED:20260330T103903Z
LAST-MODIFIED:20260330T115253Z
UID:1745-1775588400-1775588400@1820brewwerks.com
SUMMARY:Friends In Motion
DESCRIPTION:
URL:https://1820brewwerks.com/event/friends-in-motion-25/
LOCATION:1820 BrewWerks\, 105 W. Main Street\, Kalida\, OH\, 45853\, United States
ATTACH;FMTTYPE=image/jpeg:https://1820brewwerks.com/wp-content/uploads/2025/07/1820-BW-May-2025-OS.jpg
END:VEVENT
BEGIN:VEVENT
DTSTART;TZID=America/New_York:20260414T190000
DTEND;TZID=America/New_York:20260414T190000
DTSTAMP:20260423T201104
CREATED:20260330T103940Z
LAST-MODIFIED:20260330T115227Z
UID:1747-1776193200-1776193200@1820brewwerks.com
SUMMARY:Friends In Motion
DESCRIPTION:
URL:https://1820brewwerks.com/event/friends-in-motion-26/
LOCATION:1820 BrewWerks\, 105 W. Main Street\, Kalida\, OH\, 45853\, United States
ATTACH;FMTTYPE=image/jpeg:https://1820brewwerks.com/wp-content/uploads/2025/07/1820-BW-May-2025-OS.jpg
END:VEVENT
BEGIN:VEVENT
DTSTART;TZID=America/New_York:20260416T190000
DTEND;TZID=America/New_York:20260416T190000
DTSTAMP:20260423T201104
CREATED:20260330T104224Z
LAST-MODIFIED:20260330T115206Z
UID:1761-1776366000-1776366000@1820brewwerks.com
SUMMARY:Trivia
DESCRIPTION:
URL:https://1820brewwerks.com/event/trivia-4/
LOCATION:1820 BrewWerks\, 105 W. Main Street\, Kalida\, OH\, 45853\, United States
ATTACH;FMTTYPE=image/jpeg:https://1820brewwerks.com/wp-content/uploads/2026/03/image4.jpg
END:VEVENT
BEGIN:VEVENT
DTSTART;TZID=America/New_York:20260421T190000
DTEND;TZID=America/New_York:20260421T190000
DTSTAMP:20260423T201104
CREATED:20260330T104011Z
LAST-MODIFIED:20260330T115150Z
UID:1750-1776798000-1776798000@1820brewwerks.com
SUMMARY:Friends In Motion
DESCRIPTION:
URL:https://1820brewwerks.com/event/friends-in-motion-27/
LOCATION:1820 BrewWerks\, 105 W. Main Street\, Kalida\, OH\, 45853\, United States
ATTACH;FMTTYPE=image/jpeg:https://1820brewwerks.com/wp-content/uploads/2025/07/1820-BW-May-2025-OS.jpg
END:VEVENT
BEGIN:VEVENT
DTSTART;TZID=America/New_York:20260428T190000
DTEND;TZID=America/New_York:20260428T190000
DTSTAMP:20260423T201104
CREATED:20260330T104042Z
LAST-MODIFIED:20260330T115105Z
UID:1753-1777402800-1777402800@1820brewwerks.com
SUMMARY:Friends In Motion
DESCRIPTION:
URL:https://1820brewwerks.com/event/friends-in-motion-28/
LOCATION:1820 BrewWerks\, 105 W. Main Street\, Kalida\, OH\, 45853\, United States
ATTACH;FMTTYPE=image/jpeg:https://1820brewwerks.com/wp-content/uploads/2025/07/1820-BW-May-2025-OS.jpg
END:VEVENT
END:VCALENDAR