BEGIN:VCALENDAR
VERSION:2.0
PRODID:-//1820 BrewWerks - ECPv6.15.20//NONSGML v1.0//EN
CALSCALE:GREGORIAN
METHOD:PUBLISH
X-ORIGINAL-URL:https://1820brewwerks.com
X-WR-CALDESC:Events for 1820 BrewWerks
REFRESH-INTERVAL;VALUE=DURATION:PT1H
X-Robots-Tag:noindex
X-PUBLISHED-TTL:PT1H
BEGIN:VTIMEZONE
TZID:America/New_York
BEGIN:DAYLIGHT
TZOFFSETFROM:-0500
TZOFFSETTO:-0400
TZNAME:EDT
DTSTART:20250309T070000
END:DAYLIGHT
BEGIN:STANDARD
TZOFFSETFROM:-0400
TZOFFSETTO:-0500
TZNAME:EST
DTSTART:20251102T060000
END:STANDARD
BEGIN:DAYLIGHT
TZOFFSETFROM:-0500
TZOFFSETTO:-0400
TZNAME:EDT
DTSTART:20260308T070000
END:DAYLIGHT
BEGIN:STANDARD
TZOFFSETFROM:-0400
TZOFFSETTO:-0500
TZNAME:EST
DTSTART:20261101T060000
END:STANDARD
BEGIN:DAYLIGHT
TZOFFSETFROM:-0500
TZOFFSETTO:-0400
TZNAME:EDT
DTSTART:20270314T070000
END:DAYLIGHT
BEGIN:STANDARD
TZOFFSETFROM:-0400
TZOFFSETTO:-0500
TZNAME:EST
DTSTART:20271107T060000
END:STANDARD
END:VTIMEZONE
BEGIN:VEVENT
DTSTART;TZID=America/New_York:20260213T190000
DTEND;TZID=America/New_York:20260213T190000
DTSTAMP:20260423T180808
CREATED:20260204T154521Z
LAST-MODIFIED:20260204T155322Z
UID:1687-1771009200-1771009200@1820brewwerks.com
SUMMARY:Music Bingo
DESCRIPTION:
URL:https://1820brewwerks.com/event/music-bingo-9/
LOCATION:1820 BrewWerks\, 105 W. Main Street\, Kalida\, OH\, 45853\, United States
ATTACH;FMTTYPE=image/jpeg:https://1820brewwerks.com/wp-content/uploads/2026/02/622374939_1468412298628799_7850586606658397545_n.jpg
END:VEVENT
END:VCALENDAR